{
 "currentVersion": 11.4,
 "serviceDescription": "ACT_IMAGERY/2020_01_urban_50mm",
 "name": "ACT_IMAGERY/2020_01_urban_50mm",
 "description": "",
 "extent": {
  "xmin": 675999.9767166208,
  "ymin": 6064000.008466682,
  "xmax": 723000.0190500389,
  "ymax": 6114999.976716619,
  "spatialReference": {
   "wkid": 7855,
   "latestWkid": 7855
  }
 },
 "initialExtent": {
  "xmin": 675999.9767166208,
  "ymin": 6064000.008466682,
  "xmax": 723000.0190500389,
  "ymax": 6114999.976716619,
  "spatialReference": {
   "wkid": 7855,
   "latestWkid": 7855
  }
 },
 "fullExtent": {
  "xmin": 675999.9767166208,
  "ymin": 6064000.008466682,
  "xmax": 723000.0190500389,
  "ymax": 6114999.976716619,
  "spatialReference": {
   "wkid": 7855,
   "latestWkid": 7855
  }
 },
 "sortableFields": "",
 "bandCount": 3,
 "pixelType": "U8",
 "minValues": [],
 "maxValues": [],
 "meanValues": [],
 "stdvValues": [],
 "hasMultidimensions": false,
 "pixelSizeX": 0.052916772500211706,
 "pixelSizeY": 0.05291677250021176,
 "meanPixelSize": 0.052916772500211734,
 "datasetFormat": "AFR",
 "uncompressedSize": 2568045498228,
 "blockWidth": 256,
 "blockHeight": 256,
 "compressionType": "None",
 "bandNames": [
  "Band_1",
  "Band_2",
  "Band_3"
 ],
 "allowCopy": true,
 "allowAnalysis": true,
 "itemAccess": false,
 "inspectionCapabilities": "",
 "minPixelSize": 0,
 "maxPixelSize": 0,
 "copyrightText": "",
 "serviceDataType": "esriImageServiceDataTypeRGB",
 "serviceSourceType": "esriImageServiceSourceTypeDataset",
 "objectIdField": "",
 "fields": [],
 "capabilities": "Image,Metadata,Mensuration",
 "defaultMosaicMethod": "Center",
 "allowedMosaicMethods": "",
 "sortField": "",
 "sortValue": null,
 "sortAscending": true,
 "mosaicOperator": "First",
 "defaultCompressionQuality": 75,
 "defaultResamplingMethod": "Bilinear",
 "maxImageHeight": 4100,
 "maxImageWidth": 15000,
 "allowRasterFunction": true,
 "rasterFunctionInfos": [
  {
   "name": "None",
   "description": "",
   "help": ""
  }
 ],
 "rasterTypeInfos": [
  {
   "name": "Raster Dataset",
   "description": "Supports all ArcGIS Raster Datasets",
   "help": ""
  }
 ],
 "mensurationCapabilities": "Basic",
 "hasHistograms": false,
 "hasColormap": false,
 "hasRasterAttributeTable": false,
 "minScale": 0,
 "maxScale": 0,
 "exportTilesAllowed": false,
 "supportsStatistics": false,
 "supportsAdvancedQueries": false,
 "editFieldsInfo": null,
 "ownershipBasedAccessControlForRasters": null,
 "allowComputeTiePoints": false,
 "useStandardizedQueries": true,
 "advancedQueryCapabilities": {
  "useStandardizedQueries": true,
  "supportsStatistics": false,
  "supportsOrderBy": false,
  "supportsDistinct": false,
  "supportsPagination": false
 },
 "spatialReference": {
  "wkid": 7855,
  "latestWkid": 7855
 }
}
