{
 "currentVersion": 11.4,
 "serviceDescription": "ACT_IMAGERY_MGA2020/2019_06_urban_50mm",
 "name": "ACT_IMAGERY_MGA2020/2019_06_urban_50mm",
 "description": "",
 "extent": {
  "xmin": 675999.9760016045,
  "ymin": 6062999.957078438,
  "xmax": 723000.014854962,
  "ymax": 6114000.026237913,
  "spatialReference": {
   "wkid": 7855,
   "latestWkid": 7855
  }
 },
 "initialExtent": {
  "xmin": 675999.9760016045,
  "ymin": 6062999.957078438,
  "xmax": 723000.014854962,
  "ymax": 6114000.026237913,
  "spatialReference": {
   "wkid": 7855,
   "latestWkid": 7855
  }
 },
 "fullExtent": {
  "xmin": 675999.9760016045,
  "ymin": 6062999.957078438,
  "xmax": 723000.014854962,
  "ymax": 6114000.026237913,
  "spatialReference": {
   "wkid": 7855,
   "latestWkid": 7855
  }
 },
 "sortableFields": "",
 "bandCount": 3,
 "pixelType": "U8",
 "minValues": [],
 "maxValues": [],
 "meanValues": [],
 "stdvValues": [],
 "hasMultidimensions": false,
 "pixelSizeX": 0.07464553541190412,
 "pixelSizeY": 0.07464553541190398,
 "meanPixelSize": 0.07464553541190405,
 "datasetFormat": "AFR",
 "uncompressedSize": 1290572960670,
 "blockWidth": 512,
 "blockHeight": 512,
 "compressionType": "None",
 "bandNames": [
  "Band_1",
  "Band_2",
  "Band_3"
 ],
 "allowCopy": true,
 "allowAnalysis": true,
 "itemAccess": false,
 "inspectionCapabilities": "",
 "minPixelSize": 0,
 "maxPixelSize": 0,
 "copyrightText": "",
 "serviceDataType": "esriImageServiceDataTypeRGB",
 "serviceSourceType": "esriImageServiceSourceTypeDataset",
 "objectIdField": "",
 "fields": [],
 "capabilities": "Image,Metadata,Mensuration",
 "defaultMosaicMethod": "Center",
 "allowedMosaicMethods": "",
 "sortField": "",
 "sortValue": null,
 "sortAscending": true,
 "mosaicOperator": "First",
 "defaultCompressionQuality": 75,
 "defaultResamplingMethod": "Bilinear",
 "maxImageHeight": 4100,
 "maxImageWidth": 15000,
 "allowRasterFunction": true,
 "rasterFunctionInfos": [
  {
   "name": "None",
   "description": "",
   "help": ""
  }
 ],
 "rasterTypeInfos": [
  {
   "name": "Raster Dataset",
   "description": "Supports all ArcGIS Raster Datasets",
   "help": ""
  }
 ],
 "mensurationCapabilities": "Basic",
 "hasHistograms": false,
 "hasColormap": false,
 "hasRasterAttributeTable": false,
 "minScale": 0,
 "maxScale": 0,
 "exportTilesAllowed": false,
 "supportsStatistics": false,
 "supportsAdvancedQueries": false,
 "editFieldsInfo": null,
 "ownershipBasedAccessControlForRasters": null,
 "allowComputeTiePoints": false,
 "useStandardizedQueries": true,
 "advancedQueryCapabilities": {
  "useStandardizedQueries": true,
  "supportsStatistics": false,
  "supportsOrderBy": false,
  "supportsDistinct": false,
  "supportsPagination": false
 },
 "spatialReference": {
  "wkid": 7855,
  "latestWkid": 7855
 }
}
