{
 "currentVersion": 10.81,
 "serviceDescription": "Canberra City Nomenclature 1943",
 "name": "actmapi/CanberraCityNomenclature1943",
 "description": "Canberra City Nomenclature 1943",
 "extent": {
  "xmin": 687441.3118890356,
  "ymin": 6084969.7118068,
  "xmax": 699979.8532870356,
  "ymax": 6099040.1337088,
  "spatialReference": {
   "wkid": 28355,
   "latestWkid": 28355
  }
 },
 "initialExtent": {
  "xmin": 687441.3118890356,
  "ymin": 6084969.7118068,
  "xmax": 699979.8532870356,
  "ymax": 6099040.1337088,
  "spatialReference": {
   "wkid": 28355,
   "latestWkid": 28355
  }
 },
 "fullExtent": {
  "xmin": 687441.3118890356,
  "ymin": 6084969.7118068,
  "xmax": 699979.8532870356,
  "ymax": 6099040.1337088,
  "spatialReference": {
   "wkid": 28355,
   "latestWkid": 28355
  }
 },
 "pixelSizeX": 2.4868189999999943,
 "pixelSizeY": 2.4868189999999952,
 "bandCount": 3,
 "pixelType": "U16",
 "minPixelSize": 0.06614596562526459,
 "maxPixelSize": 264.5838625010584,
 "copyrightText": "",
 "serviceDataType": "esriImageServiceDataTypeGeneric",
 "minValues": [
  50,
  39,
  39
 ],
 "maxValues": [
  245,
  244,
  238
 ],
 "meanValues": [
  207.6272759487462,
  196.08785165083475,
  168.0597770975546
 ],
 "stdvValues": [
  32.41118163500399,
  31.197886731586696,
  26.88733146731759
 ],
 "objectIdField": "",
 "fields": [],
 "capabilities": "Mensuration,Image,Metadata",
 "defaultMosaicMethod": "Center",
 "allowedMosaicMethods": "",
 "sortField": "",
 "sortValue": null,
 "sortAscending": true,
 "mosaicOperator": "First",
 "defaultCompressionQuality": 75,
 "defaultResamplingMethod": "Bilinear",
 "maxImageHeight": 4100,
 "maxImageWidth": 15000,
 "singleFusedMapCache": true,
 "tileInfo": {
  "rows": 256,
  "cols": 256,
  "dpi": 96,
  "format": "MIXED",
  "compressionQuality": 75,
  "origin": {
   "x": -5120900,
   "y": 19998100
  },
  "spatialReference": {
   "wkid": 28355,
   "latestWkid": 28355
  },
  "lods": [
   {
    "level": 0,
    "resolution": 264.5838625010584,
    "scale": 1000000
   },
   {
    "level": 1,
    "resolution": 132.2919312505292,
    "scale": 500000
   },
   {
    "level": 2,
    "resolution": 66.1459656252646,
    "scale": 250000
   },
   {
    "level": 3,
    "resolution": 26.458386250105836,
    "scale": 100000
   },
   {
    "level": 4,
    "resolution": 13.229193125052918,
    "scale": 50000
   },
   {
    "level": 5,
    "resolution": 10.583354500042335,
    "scale": 40000
   },
   {
    "level": 6,
    "resolution": 7.9375158750317505,
    "scale": 30000
   },
   {
    "level": 7,
    "resolution": 5.291677250021167,
    "scale": 20000
   },
   {
    "level": 8,
    "resolution": 3.9687579375158752,
    "scale": 15000
   },
   {
    "level": 9,
    "resolution": 2.6458386250105836,
    "scale": 10000
   },
   {
    "level": 10,
    "resolution": 1.9843789687579376,
    "scale": 7500
   },
   {
    "level": 11,
    "resolution": 1.3229193125052918,
    "scale": 5000
   },
   {
    "level": 12,
    "resolution": 1.0583354500042335,
    "scale": 4000
   },
   {
    "level": 13,
    "resolution": 0.7937515875031751,
    "scale": 3000
   },
   {
    "level": 14,
    "resolution": 0.5291677250021167,
    "scale": 2000
   },
   {
    "level": 15,
    "resolution": 0.26458386250105836,
    "scale": 1000
   },
   {
    "level": 16,
    "resolution": 0.13229193125052918,
    "scale": 500
   },
   {
    "level": 17,
    "resolution": 0.06614596562526459,
    "scale": 250
   }
  ]
 },
 "cacheType": "Map",
 "allowRasterFunction": true,
 "rasterFunctionInfos": [
  {
   "name": "None",
   "description": "",
   "help": ""
  }
 ],
 "rasterTypeInfos": [
  {
   "name": "Raster Dataset",
   "description": "Supports all ArcGIS Raster Datasets",
   "help": ""
  }
 ],
 "mensurationCapabilities": "Basic",
 "hasHistograms": true,
 "hasColormap": false,
 "hasRasterAttributeTable": false,
 "minScale": 1000000,
 "maxScale": 250,
 "exportTilesAllowed": false,
 "hasMultidimensions": false,
 "supportsStatistics": false,
 "supportsAdvancedQueries": false,
 "editFieldsInfo": null,
 "ownershipBasedAccessControlForRasters": null,
 "allowComputeTiePoints": false,
 "useStandardizedQueries": true,
 "advancedQueryCapabilities": {
  "useStandardizedQueries": true,
  "supportsStatistics": false,
  "supportsOrderBy": false,
  "supportsDistinct": false,
  "supportsPagination": false
 },
 "spatialReference": {
  "wkid": 28355,
  "latestWkid": 28355
 }
}
