{
 "currentVersion": 10.81,
 "serviceDescription": "Country South Lake George",
 "name": "actmapi/CountrySouthLakeGeorge",
 "description": "Country South Lake George",
 "extent": {
  "xmin": 592885.4204212237,
  "ymin": 5893220.569583051,
  "xmax": 888492.0081747958,
  "ymax": 6185498.437177904,
  "spatialReference": {
   "wkid": 28355,
   "latestWkid": 28355
  }
 },
 "initialExtent": {
  "xmin": 592885.4204212237,
  "ymin": 5893220.569583051,
  "xmax": 888492.0081747958,
  "ymax": 6185498.437177904,
  "spatialReference": {
   "wkid": 28355,
   "latestWkid": 28355
  }
 },
 "fullExtent": {
  "xmin": 592885.4204212237,
  "ymin": 5893220.569583051,
  "xmax": 888492.0081747958,
  "ymax": 6185498.437177904,
  "spatialReference": {
   "wkid": 28355,
   "latestWkid": 28355
  }
 },
 "pixelSizeX": 81.1882965541258,
 "pixelSizeY": 81.18829655412584,
 "bandCount": 3,
 "pixelType": "U8",
 "minPixelSize": 0.06614596562526459,
 "maxPixelSize": 264.5838625010584,
 "copyrightText": "",
 "serviceDataType": "esriImageServiceDataTypeRGB",
 "minValues": [
  0,
  0,
  0
 ],
 "maxValues": [
  255,
  250,
  248
 ],
 "meanValues": [
  133.50280761599512,
  131.27206043956045,
  128.71049565018316
 ],
 "stdvValues": [
  98.3116996550464,
  96.73709967175218,
  94.94515558423763
 ],
 "objectIdField": "",
 "fields": [],
 "capabilities": "Catalog,Mensuration,Image,Metadata",
 "defaultMosaicMethod": "Northwest",
 "allowedMosaicMethods": "NorthWest,Center,LockRaster,ByAttribute,Nadir,Viewpoint,Seamline,None",
 "sortField": "",
 "sortValue": null,
 "sortAscending": true,
 "mosaicOperator": "First",
 "maxDownloadSizeLimit": 2048,
 "defaultCompressionQuality": 75,
 "defaultResamplingMethod": "Bilinear",
 "maxImageHeight": 4100,
 "maxImageWidth": 15000,
 "maxRecordCount": 1000,
 "maxDownloadImageCount": 20,
 "maxMosaicImageCount": 20,
 "singleFusedMapCache": true,
 "tileInfo": {
  "rows": 256,
  "cols": 256,
  "dpi": 96,
  "format": "MIXED",
  "compressionQuality": 75,
  "origin": {
   "x": -5120900,
   "y": 19998100
  },
  "spatialReference": {
   "wkid": 28355,
   "latestWkid": 28355
  },
  "lods": [
   {
    "level": 0,
    "resolution": 264.5838625010584,
    "scale": 1000000
   },
   {
    "level": 1,
    "resolution": 132.2919312505292,
    "scale": 500000
   },
   {
    "level": 2,
    "resolution": 66.1459656252646,
    "scale": 250000
   },
   {
    "level": 3,
    "resolution": 26.458386250105836,
    "scale": 100000
   },
   {
    "level": 4,
    "resolution": 13.229193125052918,
    "scale": 50000
   },
   {
    "level": 5,
    "resolution": 10.583354500042335,
    "scale": 40000
   },
   {
    "level": 6,
    "resolution": 7.9375158750317505,
    "scale": 30000
   },
   {
    "level": 7,
    "resolution": 5.291677250021167,
    "scale": 20000
   },
   {
    "level": 8,
    "resolution": 3.9687579375158752,
    "scale": 15000
   },
   {
    "level": 9,
    "resolution": 2.6458386250105836,
    "scale": 10000
   },
   {
    "level": 10,
    "resolution": 1.9843789687579376,
    "scale": 7500
   },
   {
    "level": 11,
    "resolution": 1.3229193125052918,
    "scale": 5000
   },
   {
    "level": 12,
    "resolution": 1.0583354500042335,
    "scale": 4000
   },
   {
    "level": 13,
    "resolution": 0.7937515875031751,
    "scale": 3000
   },
   {
    "level": 14,
    "resolution": 0.5291677250021167,
    "scale": 2000
   },
   {
    "level": 15,
    "resolution": 0.26458386250105836,
    "scale": 1000
   },
   {
    "level": 16,
    "resolution": 0.13229193125052918,
    "scale": 500
   },
   {
    "level": 17,
    "resolution": 0.06614596562526459,
    "scale": 250
   }
  ]
 },
 "cacheType": "Map",
 "allowRasterFunction": true,
 "rasterFunctionInfos": [
  {
   "name": "None",
   "description": "",
   "help": ""
  }
 ],
 "rasterTypeInfos": [
  {
   "name": "Raster Dataset",
   "description": "Supports all ArcGIS Raster Datasets",
   "help": ""
  }
 ],
 "mensurationCapabilities": "Basic",
 "hasHistograms": true,
 "hasColormap": false,
 "hasRasterAttributeTable": false,
 "minScale": 1000000,
 "maxScale": 250,
 "exportTilesAllowed": false,
 "hasMultidimensions": false,
 "supportsStatistics": false,
 "supportsAdvancedQueries": false,
 "editFieldsInfo": null,
 "ownershipBasedAccessControlForRasters": null,
 "allowComputeTiePoints": false,
 "useStandardizedQueries": true,
 "advancedQueryCapabilities": {
  "useStandardizedQueries": true,
  "supportsStatistics": false,
  "supportsOrderBy": false,
  "supportsDistinct": false,
  "supportsPagination": false
 },
 "spatialReference": {
  "wkid": 28355,
  "latestWkid": 28355
 }
}
