View In:
ArcGIS JavaScript
ArcGIS Online Map Viewer
ArcGIS Earth
ArcMap
View Footprint In:
ArcGIS Online Map Viewer
Service Description: Canberra City Environs
Name: actmapi/CanberraCityEnvirons
Description: Canberra City Environs
Single Fused Map Cache: true
Tile Info:
- Height: 256
- Width: 256
- DPI: 96
-
Levels of Detail: 18
- Format: MIXED
- Compression Quality: 75.0
- LERC Error: NaN
- Origin: X: -5120900.0
Y: 1.99981E7
- Spatial Reference: 28355
(28355)
Extent:
XMin: 686042.4221027716
YMin: 6084571.88994556
XMax: 700496.9006687716
YMax: 6102754.647527561
Spatial Reference: 28355
(28355)
Initial Extent:
XMin: 686042.4221027716
YMin: 6084571.88994556
XMax: 700496.9006687716
YMax: 6102754.647527561
Spatial Reference: 28355
(28355)
Full Extent:
XMin: 686042.4221027716
YMin: 6084571.88994556
XMax: 700496.9006687716
YMax: 6102754.647527561
Spatial Reference: 28355
(28355)
Pixel Size X: 1.6438620000000006
Pixel Size Y: 1.6438620000000412
Band Count: 3
Pixel Type: U16
RasterFunction Infos: {"rasterFunctionInfos": [{
"name": "None",
"description": "",
"help": ""
}]}
Mensuration Capabilities: Basic
Has Histograms: true
Has Colormap: false
Has Multi Dimensions : false
Rendering Rule:
Min Scale: 1000000
Max Scale: 250
Copyright Text:
Service Data Type: esriImageServiceDataTypeGeneric
Min Values: 48, 35, 41
Max Values: 248, 239, 233
Mean Values: 224.52209034912008, 199.4347058330509, 170.05283831455293
Standard Deviation Values: 29.797895314452585, 27.236172833971516, 24.551579857777366
Object ID Field:
Fields:
None
Default Mosaic Method: Northwest
Allowed Mosaic Methods: NorthWest,Center,LockRaster,ByAttribute,Nadir,Viewpoint,Seamline,None
SortField:
SortValue: null
Mosaic Operator: First
Default Compression Quality: 75
Default Resampling Method: Bilinear
Max Record Count: 1000
Max Image Height: 4100
Max Image Width: 15000
Max Download Image Count: 20
Max Mosaic Image Count: 50
Allow Raster Function: true
Allow Copy: null
Allow Analysis: null
Allow Compute TiePoints: false
Supports Statistics: false
Supports Advanced Queries: false
Use StandardizedQueries: true
Raster Type Infos:
Name: Raster Dataset
Description: Supports all ArcGIS Raster Datasets
Help:
Has Raster Attribute Table: false
Edit Fields Info: null
Ownership Based AccessControl For Rasters: null
Child Resources:
Info
Histograms
Key Properties
Legend
Raster Function Infos
Supported Operations:
Export Image
Query
Identify
Measure
Compute Histograms
Compute Statistics Histograms
Get Samples
Compute Class Statistics
Query Boundary
Compute Pixel Location
Validate
Project