View In:
ArcGIS JavaScript
ArcGIS Online Map Viewer
ArcGIS Earth
ArcMap
View Footprint In:
ArcGIS Online Map Viewer
Service Description: Canberra City Nomenclature 1928
Name: actmapi/CanberraCityNomenclature1928
Description: Canberra City Nomenclature 1928
Single Fused Map Cache: true
Tile Info:
- Height: 256
- Width: 256
- DPI: 96
-
Levels of Detail: 18
- Format: MIXED
- Compression Quality: 75.0
- LERC Error: NaN
- Origin: X: -5120900.0
Y: 1.99981E7
- Spatial Reference: 28355
(28355)
Extent:
XMin: 689347.4773816826
YMin: 6084796.605442683
XMax: 699710.1970816826
YMax: 6098616.595077683
Spatial Reference: 28355
(28355)
Initial Extent:
XMin: 689347.4773816826
YMin: 6084796.605442683
XMax: 699710.1970816826
YMax: 6098616.595077683
Spatial Reference: 28355
(28355)
Full Extent:
XMin: 689347.4773816826
YMin: 6084796.605442683
XMax: 699710.1970816826
YMax: 6098616.595077683
Spatial Reference: 28355
(28355)
Pixel Size X: 3.0300350000000047
Pixel Size Y: 3.030035000000001
Band Count: 3
Pixel Type: U16
RasterFunction Infos: {"rasterFunctionInfos": [{
"name": "None",
"description": "",
"help": ""
}]}
Mensuration Capabilities: Basic
Has Histograms: true
Has Colormap: false
Has Multi Dimensions : false
Rendering Rule:
Min Scale: 1000000
Max Scale: 250
Copyright Text:
Service Data Type: esriImageServiceDataTypeGeneric
Min Values: 0, 0, 0
Max Values: 255, 255, 255
Mean Values: 238.84748894930536, 240.05851877007083, 219.82717343505652
Standard Deviation Values: 41.94122874985472, 42.868818665315196, 42.197010072283526
Object ID Field:
Fields:
None
Default Mosaic Method: Center
Allowed Mosaic Methods:
SortField:
SortValue: null
Mosaic Operator: First
Default Compression Quality: 75
Default Resampling Method: Bilinear
Max Record Count: null
Max Image Height: 4100
Max Image Width: 15000
Max Download Image Count: null
Max Mosaic Image Count: null
Allow Raster Function: true
Allow Copy: null
Allow Analysis: null
Allow Compute TiePoints: false
Supports Statistics: false
Supports Advanced Queries: false
Use StandardizedQueries: true
Raster Type Infos:
Name: Raster Dataset
Description: Supports all ArcGIS Raster Datasets
Help:
Has Raster Attribute Table: false
Edit Fields Info: null
Ownership Based AccessControl For Rasters: null
Child Resources:
Info
Histograms
Key Properties
Legend
Raster Function Infos
Supported Operations:
Export Image
Identify
Measure
Compute Histograms
Compute Statistics Histograms
Get Samples
Compute Class Statistics
Query Boundary
Compute Pixel Location
Validate
Project