View In:
ArcGIS JavaScript
ArcGIS Online Map Viewer
ArcGIS Earth
ArcMap
View Footprint In:
ArcGIS Online Map Viewer
Service Description: Canberra City Nomenclature 1943
Name: actmapi/CanberraCityNomenclature1943
Description: Canberra City Nomenclature 1943
Single Fused Map Cache: true
Tile Info:
- Height: 256
- Width: 256
- DPI: 96
-
Levels of Detail: 18
- Format: MIXED
- Compression Quality: 75.0
- LERC Error: NaN
- Origin: X: -5120900.0
Y: 1.99981E7
- Spatial Reference: 28355
(28355)
Extent:
XMin: 687441.3118890356
YMin: 6084969.7118068
XMax: 699979.8532870356
YMax: 6099040.1337088
Spatial Reference: 28355
(28355)
Initial Extent:
XMin: 687441.3118890356
YMin: 6084969.7118068
XMax: 699979.8532870356
YMax: 6099040.1337088
Spatial Reference: 28355
(28355)
Full Extent:
XMin: 687441.3118890356
YMin: 6084969.7118068
XMax: 699979.8532870356
YMax: 6099040.1337088
Spatial Reference: 28355
(28355)
Pixel Size X: 2.4868189999999943
Pixel Size Y: 2.4868189999999952
Band Count: 3
Pixel Type: U16
RasterFunction Infos: {"rasterFunctionInfos": [{
"name": "None",
"description": "",
"help": ""
}]}
Mensuration Capabilities: Basic
Has Histograms: true
Has Colormap: false
Has Multi Dimensions : false
Rendering Rule:
Min Scale: 1000000
Max Scale: 250
Copyright Text:
Service Data Type: esriImageServiceDataTypeGeneric
Min Values: 50, 39, 39
Max Values: 245, 244, 238
Mean Values: 207.6272759487462, 196.08785165083475, 168.0597770975546
Standard Deviation Values: 32.41118163500399, 31.197886731586696, 26.88733146731759
Object ID Field:
Fields:
None
Default Mosaic Method: Center
Allowed Mosaic Methods:
SortField:
SortValue: null
Mosaic Operator: First
Default Compression Quality: 75
Default Resampling Method: Bilinear
Max Record Count: null
Max Image Height: 4100
Max Image Width: 15000
Max Download Image Count: null
Max Mosaic Image Count: null
Allow Raster Function: true
Allow Copy: null
Allow Analysis: null
Allow Compute TiePoints: false
Supports Statistics: false
Supports Advanced Queries: false
Use StandardizedQueries: true
Raster Type Infos:
Name: Raster Dataset
Description: Supports all ArcGIS Raster Datasets
Help:
Has Raster Attribute Table: false
Edit Fields Info: null
Ownership Based AccessControl For Rasters: null
Child Resources:
Info
Histograms
Key Properties
Legend
Raster Function Infos
Supported Operations:
Export Image
Identify
Measure
Compute Histograms
Compute Statistics Histograms
Get Samples
Compute Class Statistics
Query Boundary
Compute Pixel Location
Validate
Project