View In:
ArcGIS JavaScript
ArcGIS Online Map Viewer
ArcGIS Earth
ArcMap
View Footprint In:
ArcGIS Online Map Viewer
Service Description: Country South Lake George
Name: actmapi/CountrySouthLakeGeorge
Description: Country South Lake George
Single Fused Map Cache: true
Tile Info:
- Height: 256
- Width: 256
- DPI: 96
-
Levels of Detail: 18
- Format: MIXED
- Compression Quality: 75.0
- LERC Error: NaN
- Origin: X: -5120900.0
Y: 1.99981E7
- Spatial Reference: 28355
(28355)
Extent:
XMin: 592885.4204212237
YMin: 5893220.569583051
XMax: 888492.0081747958
YMax: 6185498.437177904
Spatial Reference: 28355
(28355)
Initial Extent:
XMin: 592885.4204212237
YMin: 5893220.569583051
XMax: 888492.0081747958
YMax: 6185498.437177904
Spatial Reference: 28355
(28355)
Full Extent:
XMin: 592885.4204212237
YMin: 5893220.569583051
XMax: 888492.0081747958
YMax: 6185498.437177904
Spatial Reference: 28355
(28355)
Pixel Size X: 81.1882965541258
Pixel Size Y: 81.18829655412584
Band Count: 3
Pixel Type: U8
RasterFunction Infos: {"rasterFunctionInfos": [{
"name": "None",
"description": "",
"help": ""
}]}
Mensuration Capabilities: Basic
Has Histograms: true
Has Colormap: false
Has Multi Dimensions : false
Rendering Rule:
Min Scale: 1000000
Max Scale: 250
Copyright Text:
Service Data Type: esriImageServiceDataTypeRGB
Min Values: 0, 0, 0
Max Values: 255, 250, 248
Mean Values: 133.50280761599512, 131.27206043956045, 128.71049565018316
Standard Deviation Values: 98.3116996550464, 96.73709967175218, 94.94515558423763
Object ID Field:
Fields:
None
Default Mosaic Method: Northwest
Allowed Mosaic Methods: NorthWest,Center,LockRaster,ByAttribute,Nadir,Viewpoint,Seamline,None
SortField:
SortValue: null
Mosaic Operator: First
Default Compression Quality: 75
Default Resampling Method: Bilinear
Max Record Count: 1000
Max Image Height: 4100
Max Image Width: 15000
Max Download Image Count: 20
Max Mosaic Image Count: 20
Allow Raster Function: true
Allow Copy: null
Allow Analysis: null
Allow Compute TiePoints: false
Supports Statistics: false
Supports Advanced Queries: false
Use StandardizedQueries: true
Raster Type Infos:
Name: Raster Dataset
Description: Supports all ArcGIS Raster Datasets
Help:
Has Raster Attribute Table: false
Edit Fields Info: null
Ownership Based AccessControl For Rasters: null
Child Resources:
Info
Histograms
Key Properties
Legend
Raster Function Infos
Supported Operations:
Export Image
Query
Identify
Measure
Compute Histograms
Compute Statistics Histograms
Get Samples
Compute Class Statistics
Query Boundary
Compute Pixel Location
Validate
Project